BEGIN:VCALENDAR
VERSION:2.0
PRODID:icalendar-ruby
CALSCALE:GREGORIAN
X-WR-TIMEZONE:Europe/Helsinki
BEGIN:VTIMEZONE
TZID:Europe/Helsinki
BEGIN:DAYLIGHT
DTSTART:20260329T040000
TZOFFSETFROM:+0200
TZOFFSETTO:+0300
RRULE:FREQ=YEARLY;BYDAY=-1SU;BYMONTH=3
TZNAME:EEST
END:DAYLIGHT
BEGIN:STANDARD
DTSTART:20261025T030000
TZOFFSETFROM:+0300
TZOFFSETTO:+0200
RRULE:FREQ=YEARLY;BYDAY=-1SU;BYMONTH=10
TZNAME:EET
END:STANDARD
END:VTIMEZONE
BEGIN:VEVENT
DTSTAMP:20260424T150824
UID:eps.myclub.fi-10616654
DTSTART;TZID=Europe/Helsinki:20260819T200000
DTEND;TZID=Europe/Helsinki:20260819T200000
DESCRIPTION:Tervetuloa mukaan EPS:n aikuisten jalkapallokouluun!\nAikuisten
  jalkapallokoulu on loistava tapa saada ensikosketus jalkapalloon aikuisil
 le\, jotka eivät omaa aiempaa kokemusta jalkapallosta. Jalkapallokoulu so
 veltuu myös erinomaisesti tauolla olleen harrastuksen uudelleen aloittami
 seen.Miesten ryhmän harjoitukset järjestetään Espoonlahden urheilupuis
 tossa tekonurmi 3:lla keskiviikoisin klo 20-21. Ryhmän vetäjänä toimii
  EPS:n palkattu ammattiohjaaja.\nToiminta on suunnattu kaiken ikäisille a
 ikuisille\, jotka haluavat päästä tutustumaan jalkapalloon tai aloittaa
  uudelleen tauolla olleen harrastuksen. Ryhmä harjoittelee kerran viikoss
 a ja toiminta käynnistyy keskiviikkona 19.8.2026 Treeneissä harjoitellaa
 n jalkapallon ja liikkumisen perustaitoja\, hengästytään\, hikoillaan j
 a kaikista tärkeimpänä pidetään hauskaa. Ilmoittaudu rohkeasti toimin
 taan mukaan ja tule nauttimaan hauskasta yhdessäolosta! \nRyhmään mahtu
 u mukaan 20 osallistujaa.\n\nViikko-ohjelma ja toimintajaksot\nJalkapallok
 oululaisen viikko-ohjelma muodostuu yhdestä harjoituskerrasta Espoonlahde
 n tekonurmi 3:lla.\n Toimintajakso 19.8-7.10.2026 (8 kertaa - HINTA 80€)
  \nVarustus\nUrheilullinen ja säänmukainen ulkoliikunta-asu sekä jalkap
 allokengät tai lenkkarit. Käytämme harjoituksissa seuran palloja\, jote
 n omaa ei tarvitse tuoda mukana.\n\nVakuutus\nOsallistujia ei ole vakuutet
 tu järjestäjän puolesta.\n\nHinta\nJalkapallokoulun kesä jakso 2 hinta
  80€ \, lasku lähtee ilmoittautumisen yhteydessä. Mikäli haluat perua
  ilmoittautumisesi\, niin olethan yhteydessä sähköpostitse: tapahtumat@
 espoonpalloseura.fi Huomioithan\, että maksun maksamatta jättäminen ei 
 ole peruutusilmoitus.\nMaksun maksamisen jälkeen palautamme osallistumism
 aksun vain lääkärintodistusta vastaan\, toimistokuluilla vähennettynä
  (10€)\n\nHuom! Espoon Palloseuran laskujen reskontra\, saatavien eräp
 äivän jälkeinen seuranta ja sitä koskevat toimenpiteet on ulkoistettu 
 Visma Amili Oy:lle.\n\nhttps://eps.myclub.fi/flow/events/10616654
LOCATION:Espoonlahden TN 3\, Espoonlahdentie 2\, 02320 Espoo
SEQUENCE:0
SUMMARY:Aikuisten Jalkapallokoulu: Aikuisten Jalkapallokoulu Miehet\, kesä
  2\, ke klo 20-21
URL;VALUE=URI:https://eps.myclub.fi/flow/events/10616654
END:VEVENT
END:VCALENDAR
