BEGIN:VCALENDAR
VERSION:2.0
PRODID:icalendar-ruby
CALSCALE:GREGORIAN
X-WR-TIMEZONE:Europe/Helsinki
BEGIN:VTIMEZONE
TZID:Europe/Helsinki
BEGIN:DAYLIGHT
DTSTART:20260329T040000
TZOFFSETFROM:+0200
TZOFFSETTO:+0300
RRULE:FREQ=YEARLY;BYDAY=-1SU;BYMONTH=3
TZNAME:EEST
END:DAYLIGHT
BEGIN:STANDARD
DTSTART:20261025T030000
TZOFFSETFROM:+0300
TZOFFSETTO:+0200
RRULE:FREQ=YEARLY;BYDAY=-1SU;BYMONTH=10
TZNAME:EET
END:STANDARD
END:VTIMEZONE
BEGIN:VEVENT
DTSTAMP:20260424T150529
UID:eps.myclub.fi-10616627
DTSTART;TZID=Europe/Helsinki:20260819T190000
DTEND;TZID=Europe/Helsinki:20260819T190000
DESCRIPTION:Tervetuloa mukaan EPS:n aikuisten jalkapallokouluun!\nAikuisten
  jalkapallokoulu on loistava tapa saada ensikosketus jalkapalloon aikuisil
 le\, jotka eivät omaa aiempaa kokemusta jalkapallosta. Jalkapallokoulu so
 veltuu myös erinomaisesti tauolla olleen harrastuksen uudelleen aloittami
 seen. Naisten ryhmän harjoitukset järjestetään Espoonlahden urheilupui
 stossa tekonurmi 3:lla keskiviikoisin klo 19-20. Ryhmän vetäjänä toimi
 i EPS:n palkattu ammattiohjaaja.\nToiminta on suunnattu kaiken ikäisille 
 aikuisille\, jotka haluavat päästä tutustumaan jalkapalloon tai aloitta
 a uudelleen tauolla olleen harrastuksen. Ryhmä harjoittelee kerran viikos
 sa ja toiminta käynnistyy keskiviikkona 19.8.2026 Treeneissä harjoitella
 an jalkapallon ja liikkumisen perustaitoja\, hengästytään\, hikoillaan 
 ja kaikista tärkeimpänä pidetään hauskaa. Ilmoittaudu rohkeasti toimi
 ntaan mukaan ja tule nauttimaan hauskasta yhdessäolosta! \nRyhmään maht
 uu mukaan 20 osallistujaa.\n\nViikko-ohjelma ja toimintajaksot\nJalkapallo
 koululaisen viikko-ohjelma muodostuu yhdestä harjoituskerrasta Espoonlahd
 en tekonurmi 3:lla.\n Toimintajakso 19.8-7.10.2026 (8 kertaa - HINTA 80€
 ) \nVarustus\nUrheilullinen ja säänmukainen ulkoliikunta-asu sekä jalka
 pallokengät tai lenkkarit. Käytämme harjoituksissa seuran palloja\, jot
 en omaa ei tarvitse tuoda mukana.\n\nVakuutus\nOsallistujia ei ole vakuute
 ttu järjestäjän puolesta.\n\nHinta\nJalkapallokoulun kesä jakso 2 hint
 a 80€ \, lasku lähtee ilmoittautumisen yhteydessä. Mikäli haluat peru
 a ilmoittautumisesi\, niin olethan yhteydessä sähköpostitse: tapahtumat
 @espoonpalloseura.fi Huomioithan\, että maksun maksamatta jättäminen ei
  ole peruutusilmoitus.\nMaksun maksamisen jälkeen palautamme osallistumis
 maksun vain lääkärintodistusta vastaan\, toimistokuluilla vähennettyn
 ä (10€)\n\nHuom! Espoon Palloseuran laskujen reskontra\, saatavien erä
 päivän jälkeinen seuranta ja sitä koskevat toimenpiteet on ulkoistettu
  Visma Amili Oy:lle.\n\nhttps://eps.myclub.fi/flow/events/10616627
LOCATION:Espoonlahden TN 3\, Espoonlahdentie 2\, 02320 Espoo
SEQUENCE:0
SUMMARY:Aikuisten Jalkapallokoulu: Aikuisten Jalkapallokoulu Naiset\, kesä
  2\, ke klo 19-20
URL;VALUE=URI:https://eps.myclub.fi/flow/events/10616627
END:VEVENT
END:VCALENDAR
