BEGIN:VCALENDAR
VERSION:2.0
PRODID:icalendar-ruby
CALSCALE:GREGORIAN
X-WR-TIMEZONE:Europe/Helsinki
BEGIN:VTIMEZONE
TZID:Europe/Helsinki
BEGIN:DAYLIGHT
DTSTART:20260329T040000
TZOFFSETFROM:+0200
TZOFFSETTO:+0300
RRULE:FREQ=YEARLY;BYDAY=-1SU;BYMONTH=3
TZNAME:EEST
END:DAYLIGHT
BEGIN:STANDARD
DTSTART:20261025T030000
TZOFFSETFROM:+0300
TZOFFSETTO:+0200
RRULE:FREQ=YEARLY;BYDAY=-1SU;BYMONTH=10
TZNAME:EET
END:STANDARD
END:VTIMEZONE
BEGIN:VEVENT
DTSTAMP:20260424T145307
UID:eps.myclub.fi-10616616
DTSTART;TZID=Europe/Helsinki:20260506T190000
DTEND;TZID=Europe/Helsinki:20260506T190000
DESCRIPTION:Tervetuloa mukaan EPS:n aikuisten jalkapallokouluun!\nAikuisten
  jalkapallokoulu on loistava tapa saada ensikosketus jalkapalloon aikuisil
 le\, jotka eivät omaa aiempaa kokemusta jalkapallosta. Jalkapallokoulu so
 veltuu myös erinomaisesti tauolla olleen harrastuksen uudelleen aloittami
 seen. Naisten ryhmän harjoitukset järjestetään Espoonlahden urheilupui
 stossa tekonurmi 3:lla keskiviikoisin klo 19-20. Ryhmän vetäjänä toimi
 i EPS:n palkattu ammattiohjaaja.\nToiminta on suunnattu kaiken ikäisille 
 aikuisille\, jotka haluavat päästä tutustumaan jalkapalloon tai aloitta
 a uudelleen tauolla olleen harrastuksen. Ryhmä harjoittelee kerran viikos
 sa ja toiminta käynnistyy keskiviikkona 6.5.2026 Treeneissä harjoitellaa
 n jalkapallon ja liikkumisen perustaitoja\, hengästytään\, hikoillaan j
 a kaikista tärkeimpänä pidetään hauskaa. Ilmoittaudu rohkeasti toimin
 taan mukaan ja tule nauttimaan hauskasta yhdessäolosta! \nRyhmään mahtu
 u mukaan 20 osallistujaa.\n\nViikko-ohjelma ja toimintajaksot\nJalkapallok
 oululaisen viikko-ohjelma muodostuu yhdestä harjoituskerrasta Espoonlahde
 n tekonurmi 3:lla.\nVoit ilmoittautua mukaan: Kesän jakso 1:lle\, toimint
 ajakso 6.5-24.6.2026 (8 kertaa - HINTA 80€) \nVarustus\nUrheilullinen ja
  säänmukainen ulkoliikunta-asu sekä jalkapallokengät tai lenkkarit. K
 äytämme harjoituksissa seuran palloja\, joten omaa ei tarvitse tuoda muk
 ana.\n\nVakuutus\nOsallistujia ei ole vakuutettu järjestäjän puolesta.\
 n\nHinta\nJalkapallokoulun kesä jakso 1 hinta 80€ \, lasku lähtee ilmo
 ittautumisen yhteydessä. Mikäli haluat perua ilmoittautumisesi\, niin ol
 ethan yhteydessä sähköpostitse: tapahtumat@espoonpalloseura.fi Huomioit
 han\, että maksun maksamatta jättäminen ei ole peruutusilmoitus.\nMaksu
 n maksamisen jälkeen palautamme osallistumismaksun vain lääkärintodist
 usta vastaan\, toimistokuluilla vähennettynä (10€)\n\nHuom! Espoon Pal
 loseuran laskujen reskontra\, saatavien eräpäivän jälkeinen seuranta j
 a sitä koskevat toimenpiteet on ulkoistettu Visma Amili Oy:lle.\n\nhttps:
 //eps.myclub.fi/flow/events/10616616
LOCATION:Espoonlahden TN 3\, Espoonlahdentie 2\, 02320 Espoo
SEQUENCE:0
SUMMARY:Aikuisten Jalkapallokoulu: Aikuisten Jalkapallokoulu Naiset\, kesä
  1\, ke klo 19-20
URL;VALUE=URI:https://eps.myclub.fi/flow/events/10616616
END:VEVENT
END:VCALENDAR
