BEGIN:VCALENDAR
VERSION:2.0
PRODID:icalendar-ruby
CALSCALE:GREGORIAN
X-WR-TIMEZONE:Europe/Helsinki
BEGIN:VTIMEZONE
TZID:Europe/Helsinki
BEGIN:DAYLIGHT
DTSTART:20260329T040000
TZOFFSETFROM:+0200
TZOFFSETTO:+0300
RRULE:FREQ=YEARLY;BYDAY=-1SU;BYMONTH=3
TZNAME:EEST
END:DAYLIGHT
BEGIN:STANDARD
DTSTART:20261025T030000
TZOFFSETFROM:+0300
TZOFFSETTO:+0200
RRULE:FREQ=YEARLY;BYDAY=-1SU;BYMONTH=10
TZNAME:EET
END:STANDARD
END:VTIMEZONE
BEGIN:VEVENT
DTSTAMP:20260424T150245
UID:eps.myclub.fi-10406961
DTSTART;TZID=Europe/Helsinki:20261012T083000
DTEND;TZID=Europe/Helsinki:20261014T160000
DESCRIPTION:Syyslomaleiri 2026 \nTervetuloa viettämään liikunnallista ja
  hauskaa syyslomaa Espoon Palloseuran monipuoliselle syyslomaleirille!\nLe
 iri on suunnattu 6–12-vuotiaille lapsille (2019–2014 syntyneet). Kolme
 n päivän aikana päästään kokeilemaan erilaisia sisä- ja ulkoliikunt
 alajeja\, pelaamaan pelejä\, leikkimään ja liikkumaan yhdessä muiden l
 asten kanssa. Jokaisena leiripäivänä pelataan myös jalkapalloa!\nLeiri
  sopii kaikentasoisille liikkujille – tärkeintä on hyvä fiilis\, liik
 kumisen ilo ja yhdessä tekeminen.\nLeirin tiedot:\nAjankohta: 12.–14.10
 .2026 Paikka: Espoonlahden urheilupuisto ja lähialueet Hinta: 139€/osal
 listuja\nLeirin sisältö: \n Tutustutaan erilaisiin sisä- ja ulkoliikunt
 alajeihin \n Pelataan jalkapalloa päivittäin \n Leikitään ja pelataan 
 erilaisia ryhmäpelejä \n Vietetään hauskaa ja liikunnallista syyslomaa
  uusien kavereiden kanssa \n Lounas ja välipala päivittäin \n Vakuutus 
 sisältyy hintaan \n \nHintaan sisältyy: \n Lounas ja välipala päivitt
 äin \n Vakuutus leirin ajaksi \n Ohjaus ja liikuntatilat \n \nLeirin aika
 taulu: \n \nAloitus: klo 8:30 \n \nOhjattu toiminta: klo 9:00–15:00 \n \
 nPäätös: klo 16:00 \n \nMaksaminen: \n Saat laskun ilmoittautumisen yht
 eydessä \n Eräpäivä: 14.9.2026 (31.8. jälkeen 14 vrk) \n Maksu tulee 
 olla suoritettuna ennen leirille saapumista \n \nPeruutusehdot: \n Peruutu
 kset ilmoittamalla meilitse tapahtumat@espoonpalloseura.fi\n \n Mikäli ma
 ksettu osallistuminen peruutetaan 14.9.2026 mennessä rahanpalautuksesta p
 idätetään toimistokulu 30€. Tämän jälkeen maksu palautetaan\, toim
 istokululla vähennettynä\, ainoastaan lääkärintodistusta vastaan. \n 
 \n\nHuom! Espoon Palloseuran laskujen reskontra ja seuranta on ulkoistettu
  Visma Amili Oy:lle. \nPidätämme oikeuden ohjelma- ja aikataulumuutoksii
 n.  \nLisätietoja ja yhteydenotot: tapahtumat@espoonpalloseura.fi\n\nhttp
 s://eps.myclub.fi/flow/events/10406961
LOCATION:Espoonlahden urheilupuisto\, 
SEQUENCE:0
SUMMARY:Leirit: Liikunnallinen syyslomaleiri
URL;VALUE=URI:https://eps.myclub.fi/flow/events/10406961
END:VEVENT
END:VCALENDAR
