BEGIN:VCALENDAR
VERSION:2.0
PRODID:icalendar-ruby
CALSCALE:GREGORIAN
X-WR-TIMEZONE:Europe/Helsinki
BEGIN:VTIMEZONE
TZID:Europe/Helsinki
BEGIN:DAYLIGHT
DTSTART:20260329T040000
TZOFFSETFROM:+0200
TZOFFSETTO:+0300
RRULE:FREQ=YEARLY;BYDAY=-1SU;BYMONTH=3
TZNAME:EEST
END:DAYLIGHT
BEGIN:STANDARD
DTSTART:20261025T030000
TZOFFSETFROM:+0300
TZOFFSETTO:+0200
RRULE:FREQ=YEARLY;BYDAY=-1SU;BYMONTH=10
TZNAME:EET
END:STANDARD
END:VTIMEZONE
BEGIN:VEVENT
DTSTAMP:20260424T150830
UID:eps.myclub.fi-10386578
DTSTART;TZID=Europe/Helsinki:20260810T090000
DTEND;TZID=Europe/Helsinki:20260812T130000
DESCRIPTION:Potkutekniikka- ja maalivahtivalmennusleiri 2026 osa 2 \n\nTule
  kehittämään potkutekniikkaasi ja maalivahtitaitojasi ennen kauden lopp
 uhuipennusta!\nEspoon Palloseura järjestää yhdessä kokeneen potkutekni
 ikkavalmentaja Janne Karppinen kanssa potkuleirin 2018–2013 syntyneille 
 tytöille ja pojille. Leirillä on myös erillinen maalivahdeille suunnatt
 u valmennusosio\, jota vetää Ykkösveska.\nKyseessä on potkuleiri osa 2
 \, jossa sisältöä on viety eteenpäin aiemmista vuosista. Harjoittelemm
 e entistä enemmän erilaisia kierteitä\, volley-potkuja sekä viimeistel
 yä ilmasta. Mukaan voivat kuitenkin tulla myös ensikertalaiset\, sillä 
 potkutekniikan perusteita kerrataan ja harjoitellaan jokaisella leirillä.
 \nLeirit toimivat yhteistyössä samalla kentällä\, pelaajan on valittav
 at ilmoittautuessa\, kummalle leirille osallistuu.\nLeirin tiedot\nAjankoh
 ta: 10.–12.8.2026 Paikka: Espoonlahden urheilupuiston tekonurmi 2 Hinta:
  135 €/pelaaja\nLeirin sisältö  Potkutekniikka (ma-ti): Kehitetään p
 otkutekniikkaa monipuolisesti (voima\, nopeus\, tarkkuus\, kierteet\, voll
 eyt ja viimeistely eri tilanteista). Ohjaajana Janne Karppinen ja apuvalme
 ntajat.  Maalivahtivalmennus (ma-ti): Maalivahdeille suunnattu harjoittelu
  (perustorjunnat\, jalalla pelaaminen\, sijoittuminen ja pelitilanneharjoi
 tteet). Ohjaajana Ykkösveska.  Leiriturnaus (ke): Keskiviikkona pelataan 
 leiriturnaus\, jossa päästään soveltamaan opittuja taitoja pelitilante
 issa. Turnauksen päätteeksi voittajat palkitaan. Myös maalivahdit osall
 istuvat turnaukseen.  Päivittäinen kevyt eväs (hedelmä\, välipalakeks
 i ja juoma) sisältyy hintaan. Hintaan sisältyvät myös ohjaus ja kentt
 äolosuhteet.  \nPäivittäinen aikataulu  Aloitus klo 8.45  Ohjattu toimi
 nta klo 9.00–13.00  Päätös klo 13.15  \nMaksaminen:  Saat laskun ilmo
 ittautumisen yhteydessä  Eräpäivä: 29.6.2026 (14.6. jälkeen 14 vrk)  
 Maksu tulee olla suoritettuna ennen leirille saapumista  \nPeruutusehdot: 
  Peruutukset ilmoittamalla meilitse tapahtumat@espoonpalloseura.fi  Mikäl
 i maksettu osallistuminen peruutetaan 29.6.2026 mennessä rahanpalautukses
 ta pidätetään toimistokulu 10€. Tämän jälkeen maksu palautetaan\, 
 toimistokululla vähennettynä\, ainoastaan lääkärintodistusta vastaan.
   Mikäli leiri ei toteudu\, osallistumismaksu palautetaan kokonaisuudessa
 an.  \nOsallistujamäärä: Enintään 48 kenttäpelaajaa Enintään 16 ma
 alivahtia\n\nHuom! Espoon Palloseuran laskujen reskontra ja seuranta on ul
 koistettu Visma Amili Oy:lle.\nAlustava leiriohjelma löytyy liitteenä. T
 arkempi ohjelma lähetetään ilmoittautuneille leiriä edeltävällä vii
 kolla. Pidätämme oikeuden ohjelma- ja aikataulumuutoksiin\n\nLisätietoj
 a ja yhteydenotot: tapahtumat@espoonpalloseura.fi\n\nhttps://eps.myclub.fi
 /flow/events/10386578
LOCATION:Espoonlahden tekonurmi 2\, Espoonlahdentie 2-4\, 02320 Espoo
SEQUENCE:0
SUMMARY:Leirit: Potkutekniikka- ja maalivahtivalmennusleiri ma-ke 10-12.8.2
 026
URL;VALUE=URI:https://eps.myclub.fi/flow/events/10386578
END:VEVENT
END:VCALENDAR
