BEGIN:VCALENDAR
VERSION:2.0
PRODID:icalendar-ruby
CALSCALE:GREGORIAN
X-WR-TIMEZONE:Europe/Helsinki
BEGIN:VTIMEZONE
TZID:Europe/Helsinki
BEGIN:DAYLIGHT
DTSTART:20260329T040000
TZOFFSETFROM:+0200
TZOFFSETTO:+0300
RRULE:FREQ=YEARLY;BYDAY=-1SU;BYMONTH=3
TZNAME:EEST
END:DAYLIGHT
BEGIN:STANDARD
DTSTART:20261025T030000
TZOFFSETFROM:+0300
TZOFFSETTO:+0200
RRULE:FREQ=YEARLY;BYDAY=-1SU;BYMONTH=10
TZNAME:EET
END:STANDARD
END:VTIMEZONE
BEGIN:VEVENT
DTSTAMP:20260424T150830
UID:eps.myclub.fi-10386571
DTSTART;TZID=Europe/Helsinki:20260615T083000
DTEND;TZID=Europe/Helsinki:20260617T121500
DESCRIPTION:Copa del Espoonlahti -pelileiri 2026 \n\nCopa del Espoonlahti o
 n rento\, mutta intohimoinen pienpeliturnaus\, jossa tärkeintä on pelaam
 inen. Pelaajat päättävät itse peluutuksesta ja taktiikasta\, saavat ko
 keilla eri pelipaikkoja ja toteuttaa itseään kentällä.  Leiri on tarko
 itettu kaikille 2018–2014 syntyneille tytöille ja pojille\, jotka halua
 vat nauttia futiksen parista ja taistella Espoonlahden urheilupuiston mest
 aruudesta. \nLeiri on avoin kaikille seurojen pelaajille.\n\nLeirin tiedot
 :\nAjankohta: 15.–17.6.2026 Paikka: Espoonlahden urheilupuisto Hinta: 95
 €/pelaaja\nLeirin sisältö:  Pienpelejä sekajoukkuein  Hauskat kolme a
 amupäivää täynnä futista  Ohjaus ja kenttäolosuhteet sisältyvät hi
 ntaan  Leiri on avoin kaikille seurojen pelaajille  \nLeirin aikataulu:  A
 loitus: klo 8:30  Ohjattu toiminta: klo 9:00–12:00  Päätös: klo 12:15
   \nMaksaminen:  Saat laskun ilmoittautumisen yhteydessä  Eräpäivä: 18
 .5.2025 (ilmoittautuminen 4.5. jälkeen\, 14 vrk maksuaika)  Maksu tulee o
 lla suoritettuna ennen leirille saapumista  \nPeruutusehdot:  Peruutukset 
 ilmoittamalla meilitse tapahtumat@espoonpalloseura.fi  Mikäli maksettu os
 allistuminen peruutetaan 18.5.2025 mennessä rahanpalautuksesta pidätetä
 än toimistokulu 10€. Tämän jälkeen maksu palautetaan\, toimistokulul
 la vähennettynä\, ainoastaan lääkärintodistusta vastaan.  Mikäli lei
 ri ei toteudu\, osallistumismaksu palautetaan kokonaisuudessaan.  \n\nHuom
 !\nEspoon Palloseuran laskujen reskontra ja seuranta on ulkoistettu Visma 
 Amili Oy:lle.\nTarkempi leiriohjelma lähetetään ilmoittautuneille perja
 ntaina leiriä edeltävällä viikolla. Pidätämme oikeuden ohjelma- ja a
 ikataulumuutoksiin.\n  \nLisätietoa: tapahtumat@espoonpalloseura.fi\n\nht
 tps://eps.myclub.fi/flow/events/10386571
LOCATION:Espoonlahden urheilupuisto\, Espoonlahdentie 2\, 02320 Espoo\, Suo
 mi
SEQUENCE:0
SUMMARY:Leirit: Copa del Espoonlahti 2026
URL;VALUE=URI:https://eps.myclub.fi/flow/events/10386571
END:VEVENT
END:VCALENDAR
