BEGIN:VCALENDAR
VERSION:2.0
PRODID:icalendar-ruby
CALSCALE:GREGORIAN
X-WR-TIMEZONE:Europe/Helsinki
BEGIN:VTIMEZONE
TZID:Europe/Helsinki
BEGIN:DAYLIGHT
DTSTART:20260329T040000
TZOFFSETFROM:+0200
TZOFFSETTO:+0300
RRULE:FREQ=YEARLY;BYDAY=-1SU;BYMONTH=3
TZNAME:EEST
END:DAYLIGHT
BEGIN:STANDARD
DTSTART:20261025T030000
TZOFFSETFROM:+0300
TZOFFSETTO:+0200
RRULE:FREQ=YEARLY;BYDAY=-1SU;BYMONTH=10
TZNAME:EET
END:STANDARD
END:VTIMEZONE
BEGIN:VEVENT
DTSTAMP:20260424T150901
UID:eps.myclub.fi-10386562
DTSTART;TZID=Europe/Helsinki:20260601T083000
DTEND;TZID=Europe/Helsinki:20260603T121500
DESCRIPTION:Taito- ja maalivahtivalmennusleiri 2026 \n\nLeiri on tarkoitett
 u kaikille 2018–2012 syntyneille tytöille ja pojille\, jotka haluavat k
 ehittää jalkapallotaitojaan laadukkaassa valmennuksessa ja nauttia futik
 sen parista kesän alussa. Leiri on avoin kaikille seurojen pelaajille.\nP
 ienryhmät muodostetaan osallistujien iän ja kokemuksen mukaan.\n\nLeirin
  tiedot:  Ajankohta: 1.-3.6.2026  Paikka: Kivenlahden tekonurmi\, Kivenlah
 denkatu 20  Hinta: 129€/pelaaja  \nLeirin sisältö:  Kehitämme: pallon
 käsittelyä\, 1v1 pelaamista\, koordinaatiota\, ja maalintekoa  Erillinen
  valmennus maalivahdeille (1-2 osiota päivittäin)  Leirillä pelataan my
 ös leiri-cup\, jonka voittajat palkitaan  Leirillä on päivittäinen kev
 yt eväs (1 kpl/päivä)  Ohjaus ja kenttäolosuhteet sisältyvät hintaan
   \nLeirin aikataulu:  Aloitus: Kivenlahden kenttä\, klo 8:30  Ohjattu to
 iminta: klo 9:00–12:00  Päätös: Leiri päättyy klo 12:15  \nValmenta
 jina toimivat Espoon Palloseuran ammattivalmentajat.\n\nMaksaminen:  Saat 
 laskun ilmoittautumisen yhteydessä  Eräpäivä: 4.5.2026 (ilmoittautumin
 en 20.4. jälkeen\, 14 vrk maksuaika)  Maksu tulee olla suoritettuna ennen
  leirille saapumista  \nPeruutusehdot:  Peruutukset ilmoitetaan meilitse t
 apahtumat@espoonpalloseura.fi  Mikäli maksettu osallistuminen peruutetaan
  4.5.2026 mennessä\, rahanpalautuksesta pidätetään toimistokulu 10€.
  Tämän jälkeen maksu palautetaan\, toimistokululla vähennettynä\, ain
 oastaan lääkärintodistusta vastaan.  Mikäli leiri ei toteudu\, osallis
 tumismaksu palautetaan kokonaisuudessaan.  \nOsallistujamäärä:  Enintä
 än 48 kenttäpelaajaa  Enintään 12 maalivahtia  \n\nHuom! Espoon Pallos
 euran laskujen reskontra ja seuranta on ulkoistettu Visma Amili Oy:lle.\nA
 lustava leiriohjelma löytyy liitteenä. Tarkempi ohjelma lähetetään il
 moittautuneille leiriä edeltävällä viikolla. Pidätämme oikeuden ohje
 lma- ja aikataulumuutoksiin\n\nLisätietoja ja yhteydenotot: tapahtumat@es
 poonpalloseura.fi\n\nhttps://eps.myclub.fi/flow/events/10386562
LOCATION:Kivenlahden tekonurmi\, Kivenlahdenkatu 20\, 02320 Espoo\, Suomi
SEQUENCE:0
SUMMARY:Leirit: Taito- ja maalivahtivalmennusleiri 1-3.6.2026 (2018-2012 sy
 ntyneet)
URL;VALUE=URI:https://eps.myclub.fi/flow/events/10386562
END:VEVENT
END:VCALENDAR
